BEGIN:VCALENDAR
VERSION:2.0
PRODID:-//Fuzz Top - ECPv6.15.18//NONSGML v1.0//EN
CALSCALE:GREGORIAN
METHOD:PUBLISH
X-ORIGINAL-URL:https://fuzztop.fr
X-WR-CALDESC:Évènements pour Fuzz Top
REFRESH-INTERVAL;VALUE=DURATION:PT1H
X-Robots-Tag:noindex
X-PUBLISHED-TTL:PT1H
BEGIN:VTIMEZONE
TZID:Europe/Paris
BEGIN:DAYLIGHT
TZOFFSETFROM:+0100
TZOFFSETTO:+0200
TZNAME:CEST
DTSTART:20230326T010000
END:DAYLIGHT
BEGIN:STANDARD
TZOFFSETFROM:+0200
TZOFFSETTO:+0100
TZNAME:CET
DTSTART:20231029T010000
END:STANDARD
BEGIN:DAYLIGHT
TZOFFSETFROM:+0100
TZOFFSETTO:+0200
TZNAME:CEST
DTSTART:20240331T010000
END:DAYLIGHT
BEGIN:STANDARD
TZOFFSETFROM:+0200
TZOFFSETTO:+0100
TZNAME:CET
DTSTART:20241027T010000
END:STANDARD
BEGIN:DAYLIGHT
TZOFFSETFROM:+0100
TZOFFSETTO:+0200
TZNAME:CEST
DTSTART:20250330T010000
END:DAYLIGHT
BEGIN:STANDARD
TZOFFSETFROM:+0200
TZOFFSETTO:+0100
TZNAME:CET
DTSTART:20251026T010000
END:STANDARD
BEGIN:DAYLIGHT
TZOFFSETFROM:+0100
TZOFFSETTO:+0200
TZNAME:CEST
DTSTART:20260329T010000
END:DAYLIGHT
BEGIN:STANDARD
TZOFFSETFROM:+0200
TZOFFSETTO:+0100
TZNAME:CET
DTSTART:20261025T010000
END:STANDARD
BEGIN:DAYLIGHT
TZOFFSETFROM:+0100
TZOFFSETTO:+0200
TZNAME:CEST
DTSTART:20270328T010000
END:DAYLIGHT
BEGIN:STANDARD
TZOFFSETFROM:+0200
TZOFFSETTO:+0100
TZNAME:CET
DTSTART:20271031T010000
END:STANDARD
END:VTIMEZONE
BEGIN:VEVENT
DTSTART;TZID=Europe/Paris:20260318T200000
DTEND;TZID=Europe/Paris:20260318T223000
DTSTAMP:20260420T000400
CREATED:20251113T154113Z
LAST-MODIFIED:20260218T090058Z
UID:9341-1773864000-1773873000@fuzztop.fr
SUMMARY:Pardubice CZ Club Žlutý pes
DESCRIPTION:Voici le lien de l’événement : \nhttps://www.facebook.com/events/1007770094273274/
URL:https://fuzztop.fr/tour/hradec-kralove-cz-petrof-gallery/
LOCATION:Petrof Gallery\, Hradec Kralove\, Czech Republic
CATEGORIES:Concert
END:VEVENT
BEGIN:VEVENT
DTSTART;TZID=Europe/Paris:20260317T200000
DTEND;TZID=Europe/Paris:20260317T223000
DTSTAMP:20260420T000400
CREATED:20251113T153853Z
LAST-MODIFIED:20260218T085913Z
UID:9338-1773777600-1773786600@fuzztop.fr
SUMMARY:Brno CZ Sono Centrum
DESCRIPTION:Voici le lien de l’événement : \nhttps://www.facebook.com/events/595475323498790/
URL:https://fuzztop.fr/tour/brno-cz-sono-centrum/
LOCATION:Brno CZ\, Brno\, Czech Republic
CATEGORIES:Concert
END:VEVENT
BEGIN:VEVENT
DTSTART;TZID=Europe/Paris:20260316T200000
DTEND;TZID=Europe/Paris:20260316T230000
DTSTAMP:20260420T000400
CREATED:20251113T153615Z
LAST-MODIFIED:20260218T091225Z
UID:9335-1773691200-1773702000@fuzztop.fr
SUMMARY:Prague CZ Hybernia Théâtre
DESCRIPTION:Voici le lien de l’événement : \nhttps://www.facebook.com/events/2386007408452237 \n 
URL:https://fuzztop.fr/tour/prague-cz-hybernia-theatre/
LOCATION:Hybernia Théatre\, Prague\, Czech Republic
CATEGORIES:Concert
END:VEVENT
BEGIN:VEVENT
DTSTART;TZID=Europe/Paris:20260314T200000
DTEND;TZID=Europe/Paris:20260314T223000
DTSTAMP:20260420T000400
CREATED:20251113T153244Z
LAST-MODIFIED:20260117T154710Z
UID:9331-1773518400-1773527400@fuzztop.fr
SUMMARY:Colmar 68 Le Grillen
DESCRIPTION:
URL:https://fuzztop.fr/tour/colmar-68-le-grillen-2/
LOCATION:Le Grillen\, 19\, rue des jardins\,\, 68000\, COLMAR\, France
CATEGORIES:Concert
END:VEVENT
BEGIN:VEVENT
DTSTART;TZID=Europe/Paris:20251011T190000
DTEND;TZID=Europe/Paris:20251011T230000
DTSTAMP:20260420T000400
CREATED:20250516T074759Z
LAST-MODIFIED:20250516T074759Z
UID:9308-1760209200-1760223600@fuzztop.fr
SUMMARY:Saint Victor 07 salle Pouyol
DESCRIPTION:Fuzz Top en concert à la salle des fetes Pouyol en compagnie de Fab Factory  \n \n 
URL:https://fuzztop.fr/tour/saint-victor-07-salle-pouyol/
CATEGORIES:Concert
END:VEVENT
BEGIN:VEVENT
DTSTART;TZID=Europe/Paris:20251010T203000
DTEND;TZID=Europe/Paris:20251010T233000
DTSTAMP:20260420T000400
CREATED:20250516T074100Z
LAST-MODIFIED:20250516T074100Z
UID:9306-1760128200-1760139000@fuzztop.fr
SUMMARY:Le Thor 84 Le Sonograph
DESCRIPTION:
URL:https://fuzztop.fr/tour/le-thor-84-le-sonograph/
CATEGORIES:Concert
END:VEVENT
BEGIN:VEVENT
DTSTART;TZID=Europe/Paris:20250927T200000
DTEND;TZID=Europe/Paris:20250927T233000
DTSTAMP:20260420T000400
CREATED:20250224T235219Z
LAST-MODIFIED:20250224T235219Z
UID:9102-1759003200-1759015800@fuzztop.fr
SUMMARY:Isernhagen (D) Blues Garage
DESCRIPTION:
URL:https://fuzztop.fr/tour/isernhagen-d-blues-garage-2/
CATEGORIES:Concert
END:VEVENT
BEGIN:VEVENT
DTSTART;TZID=Europe/Paris:20250919T210000
DTEND;TZID=Europe/Paris:20250919T223000
DTSTAMP:20260420T000400
CREATED:20250406T211948Z
LAST-MODIFIED:20250406T211948Z
UID:9118-1758315600-1758321000@fuzztop.fr
SUMMARY:Chambery 73 Foire
DESCRIPTION:
URL:https://fuzztop.fr/tour/chambery-73-foire/
CATEGORIES:Concert
END:VEVENT
BEGIN:VEVENT
DTSTART;TZID=Europe/Paris:20250912T200000
DTEND;TZID=Europe/Paris:20250912T233000
DTSTAMP:20260420T000400
CREATED:20250406T211629Z
LAST-MODIFIED:20250406T211629Z
UID:9116-1757707200-1757719800@fuzztop.fr
SUMMARY:Lancy (CH) Chapel Festival
DESCRIPTION:
URL:https://fuzztop.fr/tour/lancy-ch-chapel-festival/
CATEGORIES:Concert
END:VEVENT
BEGIN:VEVENT
DTSTART;TZID=Europe/Paris:20250717T210000
DTEND;TZID=Europe/Paris:20250717T223000
DTSTAMP:20260420T000400
CREATED:20250318T104104Z
LAST-MODIFIED:20250318T104104Z
UID:9107-1752786000-1752791400@fuzztop.fr
SUMMARY:Montboucher sur Jabron (26)
DESCRIPTION:
URL:https://fuzztop.fr/tour/montboucher-sur-jabron-26/
CATEGORIES:Concert
END:VEVENT
BEGIN:VEVENT
DTSTART;TZID=Europe/Paris:20250712T200000
DTEND;TZID=Europe/Paris:20250712T233000
DTSTAMP:20260420T000400
CREATED:20250224T235115Z
LAST-MODIFIED:20250224T235115Z
UID:9100-1752350400-1752363000@fuzztop.fr
SUMMARY:Alpes d'Huez 38 Route 21 Harley Davidson HOG
DESCRIPTION:
URL:https://fuzztop.fr/tour/alpes-dhuez-38-route-21-harley-davidson-hog/
CATEGORIES:Concert
END:VEVENT
BEGIN:VEVENT
DTSTART;TZID=Europe/Paris:20250628T200000
DTEND;TZID=Europe/Paris:20250628T233000
DTSTAMP:20260420T000400
CREATED:20250224T233900Z
LAST-MODIFIED:20250224T233900Z
UID:9090-1751140800-1751153400@fuzztop.fr
SUMMARY:Pollestres 66 Festival Coq N'Roll
DESCRIPTION:
URL:https://fuzztop.fr/tour/pollestres-66-festival-coq-nroll/
CATEGORIES:Concert
END:VEVENT
BEGIN:VEVENT
DTSTART;TZID=Europe/Paris:20250621T200000
DTEND;TZID=Europe/Paris:20250621T233000
DTSTAMP:20260420T000400
CREATED:20250224T233220Z
LAST-MODIFIED:20250224T233220Z
UID:9088-1750536000-1750548600@fuzztop.fr
SUMMARY:Nogent 52 Fête de la musique
DESCRIPTION:
URL:https://fuzztop.fr/tour/nogent-52-fete-de-la-musique/
CATEGORIES:Concert
END:VEVENT
BEGIN:VEVENT
DTSTART;TZID=Europe/Paris:20250524T210000
DTEND;TZID=Europe/Paris:20250524T233000
DTSTAMP:20260420T000400
CREATED:20250318T104800Z
LAST-MODIFIED:20250318T114037Z
UID:9111-1748120400-1748129400@fuzztop.fr
SUMMARY:Bolbec (76) salle Maupassant
DESCRIPTION:
URL:https://fuzztop.fr/tour/bolbec-76/
CATEGORIES:Concert
END:VEVENT
BEGIN:VEVENT
DTSTART;TZID=Europe/Paris:20250523T200000
DTEND;TZID=Europe/Paris:20250523T233000
DTSTAMP:20260420T000400
CREATED:20250224T232250Z
LAST-MODIFIED:20250318T105049Z
UID:9084-1748030400-1748043000@fuzztop.fr
SUMMARY:Forges les Eaux 76 l'Espace des Forges
DESCRIPTION:
URL:https://fuzztop.fr/tour/forges-les-eaux-76-lespace-des-forges/
CATEGORIES:Concert
END:VEVENT
BEGIN:VEVENT
DTSTART;TZID=Europe/Paris:20250517T200000
DTEND;TZID=Europe/Paris:20250517T233000
DTSTAMP:20260420T000400
CREATED:20250224T232019Z
LAST-MODIFIED:20250224T232019Z
UID:9082-1747512000-1747524600@fuzztop.fr
SUMMARY:Calonne Ricouart 62  calonne week’n’rock
DESCRIPTION:
URL:https://fuzztop.fr/tour/calonne-ricouart-62-calonne-weeknrock/
CATEGORIES:Concert
END:VEVENT
BEGIN:VEVENT
DTSTART;TZID=Europe/Paris:20250503T210000
DTEND;TZID=Europe/Paris:20250503T223000
DTSTAMP:20260420T000400
CREATED:20250318T104549Z
LAST-MODIFIED:20250318T104549Z
UID:9109-1746306000-1746311400@fuzztop.fr
SUMMARY:Cestas (33) Fort Rainbow
DESCRIPTION:
URL:https://fuzztop.fr/tour/cestas-33-fort-rainbow/
CATEGORIES:Concert
END:VEVENT
BEGIN:VEVENT
DTSTART;TZID=Europe/Paris:20250411T190000
DTEND;TZID=Europe/Paris:20250411T190000
DTSTAMP:20260420T000400
CREATED:20250224T231605Z
LAST-MODIFIED:20250224T231605Z
UID:9080-1744398000-1744398000@fuzztop.fr
SUMMARY:Condrieu 69 Salle de l'Arbuel
DESCRIPTION:Concert Caritatif à Condrieu  \navec Laurane Joly et Swords (tribute to Toto)
URL:https://fuzztop.fr/tour/condrieu-69-salle-de-larbuel/
CATEGORIES:Concert
END:VEVENT
BEGIN:VEVENT
DTSTART;TZID=Europe/Paris:20250329T200000
DTEND;TZID=Europe/Paris:20250329T200000
DTSTAMP:20260420T000400
CREATED:20250224T231232Z
LAST-MODIFIED:20250224T231232Z
UID:9077-1743278400-1743278400@fuzztop.fr
SUMMARY:Portes les Valence 26 Le Broadway
DESCRIPTION:
URL:https://fuzztop.fr/tour/portes-les-valence-26-le-broadway/
LOCATION:Le Broadway Portes les Valence
CATEGORIES:Concert
END:VEVENT
BEGIN:VEVENT
DTSTART;TZID=Europe/Paris:20250312T200000
DTEND;TZID=Europe/Paris:20250312T233000
DTSTAMP:20260420T000400
CREATED:20250224T230913Z
LAST-MODIFIED:20250224T230913Z
UID:9074-1741809600-1741822200@fuzztop.fr
SUMMARY:Paris 75 Le Dôme
DESCRIPTION:Rock Legends 
URL:https://fuzztop.fr/tour/paris-75-le-dome/
LOCATION:Dôme de Paris
CATEGORIES:Concert
END:VEVENT
BEGIN:VEVENT
DTSTART;TZID=Europe/Paris:20241214T210000
DTEND;TZID=Europe/Paris:20241214T230000
DTSTAMP:20260420T000400
CREATED:20240826T080950Z
LAST-MODIFIED:20241029T145844Z
UID:8846-1734210000-1734217200@fuzztop.fr
SUMMARY:Cheseaux sur Lausanne CH
DESCRIPTION:Galion Pub
URL:https://fuzztop.fr/tour/lausanne-ch-2/
CATEGORIES:Concert
END:VEVENT
BEGIN:VEVENT
DTSTART;TZID=Europe/Paris:20241213T210000
DTEND;TZID=Europe/Paris:20241213T223000
DTSTAMP:20260420T000400
CREATED:20240826T080904Z
LAST-MODIFIED:20241025T132642Z
UID:8844-1734123600-1734129000@fuzztop.fr
SUMMARY:Morgins CH
DESCRIPTION:Festival « C’est l’hiver à Morgins »  
URL:https://fuzztop.fr/tour/morgins-ch/
CATEGORIES:Concert
END:VEVENT
BEGIN:VEVENT
DTSTART;TZID=Europe/Paris:20241130T170000
DTEND;TZID=Europe/Paris:20241130T230000
DTSTAMP:20260420T000400
CREATED:20241118T163353Z
LAST-MODIFIED:20241118T163353Z
UID:8863-1732986000-1733007600@fuzztop.fr
SUMMARY:Arpajon sur Cère 15
DESCRIPTION:Inauguration du Blues Café (Gratuit) à Arpajon sur Cère 
URL:https://fuzztop.fr/tour/arpajon-sur-cere-15/
CATEGORIES:Concert
END:VEVENT
BEGIN:VEVENT
DTSTART;TZID=Europe/Paris:20241123T200000
DTEND;TZID=Europe/Paris:20241123T230000
DTSTAMP:20260420T000400
CREATED:20240924T171740Z
LAST-MODIFIED:20240924T172145Z
UID:8850-1732392000-1732402800@fuzztop.fr
SUMMARY:Saint Agrève 07
DESCRIPTION:Fuzz Top sera au Red Fox Saloon  \ninfo et réservations :  https://www.facebook.com/LeRedFox/
URL:https://fuzztop.fr/tour/saint-agreve-07/
CATEGORIES:Concert
END:VEVENT
BEGIN:VEVENT
DTSTART;TZID=Europe/Paris:20241122T200000
DTEND;TZID=Europe/Paris:20241122T213000
DTSTAMP:20260420T000400
CREATED:20241004T152003Z
LAST-MODIFIED:20241004T152003Z
UID:8853-1732305600-1732311000@fuzztop.fr
SUMMARY:Sierre CH
DESCRIPTION:Fête de la sainte Catherine 
URL:https://fuzztop.fr/tour/sierre-ch/
CATEGORIES:Concert
END:VEVENT
BEGIN:VEVENT
DTSTART;TZID=Europe/Paris:20241116T210000
DTEND;TZID=Europe/Paris:20241116T233000
DTSTAMP:20260420T000400
CREATED:20240402T170840Z
LAST-MODIFIED:20240402T170840Z
UID:8824-1731790800-1731799800@fuzztop.fr
SUMMARY:Isernhagen (D)
DESCRIPTION:
URL:https://fuzztop.fr/tour/isernhagen-d/
CATEGORIES:Concert
END:VEVENT
BEGIN:VEVENT
DTSTART;TZID=Europe/Paris:20241115T203000
DTEND;TZID=Europe/Paris:20241115T230000
DTSTAMP:20260420T000400
CREATED:20240402T170339Z
LAST-MODIFIED:20241014T123545Z
UID:8822-1731702600-1731711600@fuzztop.fr
SUMMARY:Enschede (NL)
DESCRIPTION:
URL:https://fuzztop.fr/tour/engello-nl/
CATEGORIES:Concert
END:VEVENT
BEGIN:VEVENT
DTSTART;TZID=Europe/Paris:20241109T203000
DTEND;TZID=Europe/Paris:20241109T223000
DTSTAMP:20260420T000400
CREATED:20240402T142954Z
LAST-MODIFIED:20241015T143103Z
UID:8820-1731184200-1731191400@fuzztop.fr
SUMMARY:Saint Fargeau Ponthierry (77)
DESCRIPTION:Billetterie de Saint-Fargeau-Ponthierry : 01 64 81 26 66\nCourriel : les26couleurs@saint-fargeau-ponthierry
URL:https://fuzztop.fr/tour/saint-fargeau-ponthierry-77/
CATEGORIES:Concert
END:VEVENT
BEGIN:VEVENT
DTSTART;TZID=Europe/Paris:20241005T203000
DTEND;TZID=Europe/Paris:20241005T223000
DTSTAMP:20260420T000400
CREATED:20240402T142837Z
LAST-MODIFIED:20240410T221849Z
UID:8818-1728160200-1728167400@fuzztop.fr
SUMMARY:Huldenberg (B)
DESCRIPTION:
URL:https://fuzztop.fr/tour/meullenberg-b/
CATEGORIES:Concert
END:VEVENT
BEGIN:VEVENT
DTSTART;TZID=Europe/Paris:20240914T210000
DTEND;TZID=Europe/Paris:20240914T223000
DTSTAMP:20260420T000400
CREATED:20240402T142545Z
LAST-MODIFIED:20240402T142545Z
UID:8816-1726347600-1726353000@fuzztop.fr
SUMMARY:Pont-du-Château (63) US Car Show 12mem édition
DESCRIPTION:
URL:https://fuzztop.fr/tour/pont-du-chateau-63-us-car-show-12mem-edition/
CATEGORIES:Concert
END:VEVENT
END:VCALENDAR